BEGIN:VCALENDAR
VERSION:2.0
CALSCALE:GREGORIAN
PRODID:-//Diputació de Barcelona//DibaCMS//EN
BEGIN:VEVENT
UID:6086
DTSTAMP:20260419T225457
DTSTART:20240615T200000
DTEND:20240615T235900
SUMMARY:Sopar olímpic final de curs - AFA Serralavella
LOCATION:C/ Josep Fornell, s/n 08231 Ullastrell
METHOD:PUBLISH
X-WR-CALNAME:ullastrell@ullastrell.cat
X-WR-TIMEZONE:Europe/Madrid
DESCRIPTION:Celebració del final de curs dels i de les alumnes de l'escola Serralavella

Lloc: Pista poliesportiva

Organitzador: AMPA Escola Serralavella

URI:https://www.ullastrell.cat/actualitat/agenda/sopar-olimpic-final-de-curs-afa-serralavella.html
CLASS:PUBLIC
END:VEVENT
END:VCALENDAR
