BEGIN:VCALENDAR
VERSION:2.0
CALSCALE:GREGORIAN
PRODID:-//Diputació de Barcelona//DibaCMS//EN
BEGIN:VEVENT
UID:6087
DTSTAMP:20260419T223942
DTSTART:20240619T190000
DTEND:20240619T210000
SUMMARY:Presentació SomVallèsTrail
LOCATION:C/ Serra 37 08231 Ullastrell
METHOD:PUBLISH
X-WR-CALNAME:ullastrell@ullastrell.cat
X-WR-TIMEZONE:Europe/Madrid
DESCRIPTION:Oncolliga presenta aquesta caminada solidària, que es durà a terme a diferents municipis del Vallès. La recaptació dels beneficis de les inscripcions aniran a la Fundació Oncolliga per a la lluita contra el càncer.

El dimecres 19 de juny a les 19h tindrà lloc a El Progrés Espai Cultural, i és obert a tothom.

URI:https://www.ullastrell.cat/actualitat/agenda/presentacio-somvallestrail.html
CLASS:PUBLIC
END:VEVENT
END:VCALENDAR
