BEGIN:VCALENDAR
VERSION:2.0
CALSCALE:GREGORIAN
PRODID:-//Diputació de Barcelona//DibaCMS//EN
BEGIN:VEVENT
UID:6101
DTSTAMP:20260419T210004
DTSTART:20240627T180000
DTEND:20240627T193000
SUMMARY:Taller de cuina: Sucs i fruites amb xocolata
LOCATION:Plaça de les escoles, 1 08231 Ullastrell
METHOD:PUBLISH
X-WR-CALNAME:ullastrell@ullastrell.cat
X-WR-TIMEZONE:Europe/Madrid
DESCRIPTION:Vine al taller de cuina de l'espai Jove🔥

Obert dels 11 als 16 anys.

Inscripció necessària al 662 19 16 83 - Escolta Jove

URI:https://www.ullastrell.cat/actualitat/agenda/taller-de-cuina-sucs-i-fruites-amb-xocolata.html
CLASS:PUBLIC
END:VEVENT
END:VCALENDAR
