BEGIN:VCALENDAR
VERSION:2.0
CALSCALE:GREGORIAN
PRODID:-//Diputació de Barcelona//DibaCMS//EN
BEGIN:VEVENT
UID:6103
DTSTAMP:20260419T210349
DTSTART:20240628T200000
DTEND:20240628T211500
SUMMARY:ALAN, el musical en castellà - Cap a Miami
LOCATION:
METHOD:PUBLISH
X-WR-CALNAME:ullastrell@ullastrell.cat
X-WR-TIMEZONE:Europe/Madrid
DESCRIPTION:

Ajuda a la companyia a fer realitat aquesta aventura!





Sí, ho has llegit bé. Aquest juliol, ALAN el musical viatja als EUA per obrir el 38è Festival Internacional de Teatre Hispànic de Miami.

Vols col·laborar per portar l’obra a l’altra banda de l’oceà? Tens dues maneres de fer-ho:

https://www.wecolormusic.com/espectacles/alanelmusical/



URI:https://www.ullastrell.cat/actualitat/agenda/alan-el-musical-en-castella-cap-a-miami.html
CLASS:PUBLIC
END:VEVENT
END:VCALENDAR
