BEGIN:VCALENDAR
VERSION:2.0
CALSCALE:GREGORIAN
PRODID:-//Diputació de Barcelona//DibaCMS//EN
BEGIN:VEVENT
UID:6108
DTSTAMP:20260420T151048
DTSTART:20240704T180000
DTEND:20240704T200000
SUMMARY:Estiu Jove - Gimcana + Volei
LOCATION:C/ Josep Fornell, s/n 08231 Ullastrell
METHOD:PUBLISH
X-WR-CALNAME:ullastrell@ullastrell.cat
X-WR-TIMEZONE:Europe/Madrid
DESCRIPTION:Inaugurem l'Estiu Jove amb aquesta activitat d'allò més divertida! Amb la cooperació del Bobi i el Carles.

Inscripció prèvia a: 662191683 (whatsapp)

URI:https://www.ullastrell.cat/actualitat/agenda/estiu-jove-gimcana--volei.html
CLASS:PUBLIC
END:VEVENT
END:VCALENDAR
