BEGIN:VCALENDAR
VERSION:2.0
CALSCALE:GREGORIAN
PRODID:-//Diputació de Barcelona//DibaCMS//EN
BEGIN:VEVENT
UID:6109
DTSTAMP:20260419T210207
DTSTART:20240711T180000
DTEND:20240711T200000
SUMMARY:Estiu Jove - Inflables i Toro mecànic
LOCATION:C/ Josep Fornell, s/n 08231 Ullastrell
METHOD:PUBLISH
X-WR-CALNAME:ullastrell@ullastrell.cat
X-WR-TIMEZONE:Europe/Madrid
DESCRIPTION:Seguim amb l'Estiu Jove amb aquesta activitat d'allò més divertida!

Inscripció prèvia a: 662191683 (whatsapp)

URI:https://www.ullastrell.cat/actualitat/agenda/estiu-jove-inflables-i-toro-mecanic.html
CLASS:PUBLIC
END:VEVENT
END:VCALENDAR
