BEGIN:VCALENDAR
VERSION:2.0
CALSCALE:GREGORIAN
PRODID:-//Diputació de Barcelona//DibaCMS//EN
BEGIN:VEVENT
UID:6116
DTSTAMP:20260419T210238
DTSTART:20240710T000000
DTEND:20240710T230000
SUMMARY:vetllada dedicada al 'lied'
LOCATION:
METHOD:PUBLISH
X-WR-CALNAME:ullastrell@ullastrell.cat
X-WR-TIMEZONE:Europe/Madrid
DESCRIPTION:El Club de Lectura de la Biblioteca Josep Massagué us convida a una vetllada dedicada al 'lied' amb la participació de la soprano Montserrat Seró i el guitarrista Bernardo Rambeaud.

Dimecres 10 de juliol
Hora: 20 h
Lloc: Sala de les Orenetes.
Entrada gratuïta.

 

URI:https://www.ullastrell.cat/actualitat/agenda/vetllada-dedicada-al-lied.html
CLASS:PUBLIC
END:VEVENT
END:VCALENDAR
