BEGIN:VCALENDAR
VERSION:2.0
CALSCALE:GREGORIAN
PRODID:-//Diputació de Barcelona//DibaCMS//EN
BEGIN:VEVENT
UID:6120
DTSTAMP:20260419T210402
DTSTART:20240718T000000
DTEND:20240718T230000
SUMMARY:ESTIU JOVE - TALLER DE CIRC
LOCATION:
METHOD:PUBLISH
X-WR-CALNAME:ullastrell@ullastrell.cat
X-WR-TIMEZONE:Europe/Madrid
DESCRIPTION:I seguim amb l' Estiu Jove. Aquest dijous amb aeris, circ i moviment! 🎪 Reserveu per evitar fer cua!🤞🏻🫵

De 18 a 20h a la pista poliesportiva. Amb la col·laboració de Geoboulder de Terrassa. Us hi esperem!🤸🏻‍♂️

URI:https://www.ullastrell.cat/actualitat/agenda/estiu-jove-taller-de-circ.html
CLASS:PUBLIC
END:VEVENT
END:VCALENDAR
