BEGIN:VCALENDAR
VERSION:2.0
CALSCALE:GREGORIAN
PRODID:-//Diputació de Barcelona//DibaCMS//EN
BEGIN:VEVENT
UID:6123
DTSTAMP:20260419T211437
DTSTART:20240724T170000
DTEND:20240724T230000
SUMMARY:Ple Ordinari 24/07/2024
LOCATION:
METHOD:PUBLISH
X-WR-CALNAME:ullastrell@ullastrell.cat
X-WR-TIMEZONE:Europe/Madrid
DESCRIPTION:Data i hora: 24 / de juliol / 2024 a les 17:00h
Lloc: Sala de Plens

URI:https://www.ullastrell.cat/actualitat/agenda/6123-ple-ordinari-24072024.html
CLASS:PUBLIC
END:VEVENT
END:VCALENDAR
