BEGIN:VCALENDAR
VERSION:2.0
CALSCALE:GREGORIAN
PRODID:-//Diputació de Barcelona//DibaCMS//EN
BEGIN:VEVENT
UID:6129
DTSTAMP:20260419T211301
DTSTART:20240814T110000
DTEND:20240817T030000
SUMMARY:Festa Major d'Ullastrell 2024
LOCATION:Ullastrell (vàries localitzacions) 
METHOD:PUBLISH
X-WR-CALNAME:ullastrell@ullastrell.cat
X-WR-TIMEZONE:Europe/Madrid
DESCRIPTION:Del 14 al 16 d'agost

URI:https://www.ullastrell.cat/actualitat/agenda/festa-major-dullastrell-2024.html
CLASS:PUBLIC
END:VEVENT
END:VCALENDAR
