BEGIN:VCALENDAR
VERSION:2.0
CALSCALE:GREGORIAN
PRODID:-//Diputació de Barcelona//DibaCMS//EN
BEGIN:VEVENT
UID:6145
DTSTAMP:20260419T225435
DTSTART:20240815T183000
DTEND:20240815T204500
SUMMARY:Pubilla de ferro
LOCATION:Plaça Joan Montmany 
METHOD:PUBLISH
X-WR-CALNAME:ullastrell@ullastrell.cat
X-WR-TIMEZONE:Europe/Madrid
DESCRIPTION:La pubilla de ferro consisteix en una sèrie de reptes rurals, preguntes de cultura del poble i proves físiques.
Guanyarà qui obtingui la millor puntuació. T’atreveixes?
20 punts / guanyador/a.
Organitza: Oju Malparlats

URI:https://www.ullastrell.cat/actualitat/agenda/6145-pubilla-de-ferro.html
CLASS:PUBLIC
END:VEVENT
END:VCALENDAR
