BEGIN:VCALENDAR
VERSION:2.0
CALSCALE:GREGORIAN
PRODID:-//Diputació de Barcelona//DibaCMS//EN
BEGIN:VEVENT
UID:6147
DTSTAMP:20260419T210326
DTSTART:20240815T193000
DTEND:20240815T203000
SUMMARY:Concert infantil amb La Belluga
LOCATION:C/ Serra, 17 08231 Ullastrell
METHOD:PUBLISH
X-WR-CALNAME:ullastrell@ullastrell.cat
X-WR-TIMEZONE:Europe/Madrid
DESCRIPTION:Vine a bellugar el cos i a cantar convertint la plaça en espai d’alegria i felicitat!

URI:https://www.ullastrell.cat/actualitat/agenda/concert-infantil-amb-la-belluga.html
CLASS:PUBLIC
END:VEVENT
END:VCALENDAR
