BEGIN:VCALENDAR
VERSION:2.0
CALSCALE:GREGORIAN
PRODID:-//Diputació de Barcelona//DibaCMS//EN
BEGIN:VEVENT
UID:6155
DTSTAMP:20260421T094741
DTSTART:20240816T143000
DTEND:20240816T163000
SUMMARY:Dinar de la Gent gran
LOCATION:C/ Josep Fornell, s/n 08231 Ullastrell
METHOD:PUBLISH
X-WR-CALNAME:ullastrell@ullastrell.cat
X-WR-TIMEZONE:Europe/Madrid
DESCRIPTION:La Gent Gran d’Ullastrell celebra el seu dia amb un dinar de germanor.
MENÚ ― Amanida catalana ― Paella d’arròs mixta ― Gelats ― Cafès i gotes ― Pa, vi i aigua
Preus 20 € menú adult / 15 € menú infantil
Reserves obertes fins al 12 d’agost. R.M. Rodó 627 220 771 / Nuri Sucarrats 654 141 078 Organitza La Colla de la Gent Gran

URI:https://www.ullastrell.cat/actualitat/agenda/6155-dinar-de-la-gent-gran.html
CLASS:PUBLIC
END:VEVENT
END:VCALENDAR
