BEGIN:VCALENDAR
VERSION:2.0
CALSCALE:GREGORIAN
PRODID:-//Diputació de Barcelona//DibaCMS//EN
BEGIN:VEVENT
UID:6159
DTSTAMP:20260419T180323
DTSTART:20240816T193000
DTEND:20240816T203000
SUMMARY:Concert infantil amb La dona del sac
LOCATION:C/ Serra, 17 08231 Ullastrell
METHOD:PUBLISH
X-WR-CALNAME:ullastrell@ullastrell.cat
X-WR-TIMEZONE:Europe/Madrid
DESCRIPTION:Dos germans bessons s’amaguen rere els personatges Bombo i Clap. Amb aquesta banda de música que ens farà saltar, cantar i ballar coneixerem la dona del sac, l’antítesi del conegut i temut home del Sac. Ella sempre apareixerà quan estiguis trista o et sentis sola per ajudar-te, jugar amb tu i animar-te!

URI:https://www.ullastrell.cat/actualitat/agenda/concert-infantil-amb-la-dona-del-sac.html
CLASS:PUBLIC
END:VEVENT
END:VCALENDAR
