BEGIN:VCALENDAR
VERSION:2.0
CALSCALE:GREGORIAN
PRODID:-//Diputació de Barcelona//DibaCMS//EN
BEGIN:VEVENT
UID:6163
DTSTAMP:20260419T195315
DTSTART:20240816T110000
DTEND:20240816T130000
SUMMARY:Descobreix el Rocòdrom
LOCATION:C/ Josep Fornell, s/n 08231 Ullastrell
METHOD:PUBLISH
X-WR-CALNAME:ullastrell@ullastrell.cat
X-WR-TIMEZONE:Europe/Madrid
DESCRIPTION:Atreveix-te a escalar el rocòdrom i provar fins on arribes!
Organitza Grup de Muntanya

URI:https://www.ullastrell.cat/actualitat/agenda/6163-descobreix-el-rocodrom.html
CLASS:PUBLIC
END:VEVENT
END:VCALENDAR
