BEGIN:VCALENDAR
VERSION:2.0
CALSCALE:GREGORIAN
PRODID:-//Diputació de Barcelona//DibaCMS//EN
BEGIN:VEVENT
UID:6167
DTSTAMP:20260419T212706
DTSTART:20240814T180000
DTEND:20240814T203000
SUMMARY:Apassionant torneig de Futbol
LOCATION:C/ Josep Fornell, s/n 08231 Ullastrell
METHOD:PUBLISH
X-WR-CALNAME:ullastrell@ullastrell.cat
X-WR-TIMEZONE:Europe/Madrid
DESCRIPTION:Categories infantil femení i masculí i seguidament, adult femení i masculí.
50 punts / partit
Inscripcions WhatsApp 674782969 fins al 13/08, o al propi camp
Organitza: CF Ullastrell
 

URI:https://www.ullastrell.cat/actualitat/agenda/apassionant-torneig-de-futbol.html
CLASS:PUBLIC
END:VEVENT
END:VCALENDAR
