BEGIN:VCALENDAR
VERSION:2.0
CALSCALE:GREGORIAN
PRODID:-//Diputació de Barcelona//DibaCMS//EN
BEGIN:VEVENT
UID:6168
DTSTAMP:20260419T210255
DTSTART:20240814T183000
DTEND:20240814T194500
SUMMARY:Cercavila de bicicletes
LOCATION:C/ Serra, 17 08231 Ullastrell
METHOD:PUBLISH
X-WR-CALNAME:ullastrell@ullastrell.cat
X-WR-TIMEZONE:Europe/Madrid
DESCRIPTION:Exprimeix l’enginy creatiu i fes guanyar punts al teu bàndol Ullas o Trell!
Premi assegurat per a totes les bicicletes guarnides. 50 punts per categoria
Organitza Grup de Muntanya

URI:https://www.ullastrell.cat/actualitat/agenda/cercavila-de-bicicletes.html
CLASS:PUBLIC
END:VEVENT
END:VCALENDAR
