BEGIN:VCALENDAR
VERSION:2.0
CALSCALE:GREGORIAN
PRODID:-//Diputació de Barcelona//DibaCMS//EN
BEGIN:VEVENT
UID:6186
DTSTAMP:20260419T181311
DTSTART:20240928T000000
DTEND:20240928T140000
SUMMARY:Primera edició del Mercat Orígen de Montserrat
LOCATION:
METHOD:PUBLISH
X-WR-CALNAME:ullastrell@ullastrell.cat
X-WR-TIMEZONE:Europe/Madrid
DESCRIPTION:
URI:https://www.ullastrell.cat/actualitat/agenda/primera-edicio-del-mercat-origen-de-montserrat.html
CLASS:PUBLIC
END:VEVENT
END:VCALENDAR
