BEGIN:VCALENDAR
VERSION:2.0
CALSCALE:GREGORIAN
PRODID:-//Diputació de Barcelona//DibaCMS//EN
BEGIN:VEVENT
UID:6200
DTSTAMP:20260419T181803
DTSTART:20241008T180000
DTEND:20241008T193000
SUMMARY:Taller — Portanadons per a famílies
LOCATION:C/ Serra 37 08231 Ullastrell
METHOD:PUBLISH
X-WR-CALNAME:ullastrell@ullastrell.cat
X-WR-TIMEZONE:Europe/Madrid
DESCRIPTION:A càrrec de Gemma Guillamon
Dins la 8a Setmana de la lactància (del 6 al 12 d'octubre)

 

URI:https://www.ullastrell.cat/actualitat/agenda/taller--portanadons-per-a-families.html
CLASS:PUBLIC
END:VEVENT
END:VCALENDAR
