BEGIN:VCALENDAR
VERSION:2.0
CALSCALE:GREGORIAN
PRODID:-//Diputació de Barcelona//DibaCMS//EN
BEGIN:VEVENT
UID:6207
DTSTAMP:20260419T182323
DTSTART:20241017T190000
DTEND:20241017T194500
SUMMARY:Xerrada-coloqui-taller — Càncer de mama
LOCATION:C/ Serra 37 08231 Ullastrell
METHOD:PUBLISH
X-WR-CALNAME:ullastrell@ullastrell.cat
X-WR-TIMEZONE:Europe/Madrid
DESCRIPTION:Organitza: Oncolliga

URI:https://www.ullastrell.cat/actualitat/agenda/xerrada-coloqui-taller--cancer-de-mama.html
CLASS:PUBLIC
END:VEVENT
END:VCALENDAR
