BEGIN:VCALENDAR
VERSION:2.0
CALSCALE:GREGORIAN
PRODID:-//Diputació de Barcelona//DibaCMS//EN
BEGIN:VEVENT
UID:6211
DTSTAMP:20260419T194239
DTSTART:20241025T170000
DTEND:20241025T190000
SUMMARY:Dia d'escacs
LOCATION:C/ Josep Fornell, s/n 08231 Ullastrell
METHOD:PUBLISH
X-WR-CALNAME:ullastrell@ullastrell.cat
X-WR-TIMEZONE:Europe/Madrid
DESCRIPTION:Dia d'escacs

Vine a gaudir i jugar a escacs amb gent de totes les edats. És el torn de les simultànies.

URI:https://www.ullastrell.cat/actualitat/agenda/6211-dia-descacs.html
CLASS:PUBLIC
END:VEVENT
END:VCALENDAR
