BEGIN:VCALENDAR
VERSION:2.0
CALSCALE:GREGORIAN
PRODID:-//Diputació de Barcelona//DibaCMS//EN
BEGIN:VEVENT
UID:6215
DTSTAMP:20260419T165333
DTSTART:20241106T173000
DTEND:20241106T193000
SUMMARY:Taller: Cuina sense pares
LOCATION:Plaça de les escoles, 1 08231 Ullastrell
METHOD:PUBLISH
X-WR-CALNAME:ullastrell@ullastrell.cat
X-WR-TIMEZONE:Europe/Madrid
DESCRIPTION:Us esperem amb moltes ganes de cuinar un menú entre adolescents, perquè puguem sobreviure a la cuina amb gust! Ratatouille, truita de patates i mongetes i mug cake amb iogurt i fruita, ens esperen!

Organitza: DIBA
Inscripcions per WhatsApp 650 248 021

 

URI:https://www.ullastrell.cat/actualitat/agenda/6215-taller-cuina-sense-pares.html
CLASS:PUBLIC
END:VEVENT
END:VCALENDAR
