BEGIN:VCALENDAR
VERSION:2.0
CALSCALE:GREGORIAN
PRODID:-//Diputació de Barcelona//DibaCMS//EN
BEGIN:VEVENT
UID:6217
DTSTAMP:20260419T164057
DTSTART:20241122T170000
DTEND:20241122T190000
SUMMARY:Fem volar els drons!
LOCATION:
METHOD:PUBLISH
X-WR-CALNAME:ullastrell@ullastrell.cat
X-WR-TIMEZONE:Europe/Madrid
DESCRIPTION:Activitat per aprendre les nocions bàsiques de com fer volar un dron pels nens i nenes d’entre 6 i 12 anys.

URI:https://www.ullastrell.cat/actualitat/agenda/fem-volar-els-drons.html
CLASS:PUBLIC
END:VEVENT
END:VCALENDAR
