BEGIN:VCALENDAR
VERSION:2.0
CALSCALE:GREGORIAN
PRODID:-//Diputació de Barcelona//DibaCMS//EN
BEGIN:VEVENT
UID:6222
DTSTAMP:20260419T164528
DTSTART:20241114T200000
DTEND:20241114T220000
SUMMARY:Jocs de taula - sessió adults
LOCATION:C/ Josep Fornell, s/n 08231 Ullastrell
METHOD:PUBLISH
X-WR-CALNAME:ullastrell@ullastrell.cat
X-WR-TIMEZONE:Europe/Madrid
DESCRIPTION:A càrrec de Jugar X Jugar

URI:https://www.ullastrell.cat/actualitat/agenda/jocs-de-taula-sessio-adults.html
CLASS:PUBLIC
END:VEVENT
END:VCALENDAR
