BEGIN:VCALENDAR
VERSION:2.0
CALSCALE:GREGORIAN
PRODID:-//Diputació de Barcelona//DibaCMS//EN
BEGIN:VEVENT
UID:6223
DTSTAMP:20260419T164149
DTSTART:20241124T183000
DTEND:20241124T200000
SUMMARY:Inici de la nova Mostra de Teatre d'Ullastrell 
LOCATION:C/ Josep Fornell, s/n 08231 Ullastrell
METHOD:PUBLISH
X-WR-CALNAME:ullastrell@ullastrell.cat
X-WR-TIMEZONE:Europe/Madrid
DESCRIPTION:Comença la temporada teatral a Ullastrell, organitzada per GATU.

URI:https://www.ullastrell.cat/actualitat/agenda/inici-de-la-nova-mostra-de-teatre-dullastrell-.html
CLASS:PUBLIC
END:VEVENT
END:VCALENDAR
