BEGIN:VCALENDAR
VERSION:2.0
CALSCALE:GREGORIAN
PRODID:-//Diputació de Barcelona//DibaCMS//EN
BEGIN:VEVENT
UID:6225
DTSTAMP:20260419T181326
DTSTART:20241129T170000
DTEND:20241129T190000
SUMMARY:Dia d'escacs 
LOCATION:C/ Josep Fornell, s/n 08231 Ullastrell
METHOD:PUBLISH
X-WR-CALNAME:ullastrell@ullastrell.cat
X-WR-TIMEZONE:Europe/Madrid
DESCRIPTION:Vine a gaudir i jugar a escacs amb gent de totes les edats. Farem una sessió de Ràpides.
 

URI:https://www.ullastrell.cat/actualitat/agenda/6225-dia-descacs-.html
CLASS:PUBLIC
END:VEVENT
END:VCALENDAR
