BEGIN:VCALENDAR
VERSION:2.0
CALSCALE:GREGORIAN
PRODID:-//Diputació de Barcelona//DibaCMS//EN
BEGIN:VEVENT
UID:6228
DTSTAMP:20260419T152901
DTSTART:20241211T183000
DTEND:20241211T203000
SUMMARY:Sortida Club de lectura a Castellar
LOCATION:Auditori Miquel Pont - Castellar del Vallès 
METHOD:PUBLISH
X-WR-CALNAME:ullastrell@ullastrell.cat
X-WR-TIMEZONE:Europe/Madrid
DESCRIPTION:Trobada de Clubs de lectura de la comarca a Castellar del Vallès, dinamitzada per l’Eva Baltasar.

URI:https://www.ullastrell.cat/actualitat/agenda/sortida-club-de-lectura-a-castellar.html
CLASS:PUBLIC
END:VEVENT
END:VCALENDAR
