BEGIN:VCALENDAR
VERSION:2.0
CALSCALE:GREGORIAN
PRODID:-//Diputació de Barcelona//DibaCMS//EN
BEGIN:VEVENT
UID:6240
DTSTAMP:20260419T180156
DTSTART:20241026T180000
DTEND:20241026T200000
SUMMARY:Exposició: "I si te les toques?" 
LOCATION:C/ Serra 37 08231 Ullastrell
METHOD:PUBLISH
X-WR-CALNAME:ullastrell@ullastrell.cat
X-WR-TIMEZONE:Europe/Madrid
DESCRIPTION:
URI:https://www.ullastrell.cat/actualitat/agenda/exposicio-i-si-te-les-toques-.html
CLASS:PUBLIC
END:VEVENT
END:VCALENDAR
