BEGIN:VCALENDAR
VERSION:2.0
CALSCALE:GREGORIAN
PRODID:-//Diputació de Barcelona//DibaCMS//EN
BEGIN:VEVENT
UID:6289
DTSTAMP:20260419T163843
DTSTART:20241112T190000
DTEND:20241112T200000
SUMMARY:Aquest Nadal treballo!
LOCATION:
METHOD:PUBLISH
X-WR-CALNAME:ullastrell@ullastrell.cat
X-WR-TIMEZONE:Europe/Madrid
DESCRIPTION:Tens més de 16 anys i vols treballar al Nadal?
Apunta't al Taller per millorar les eines per afrontar la cerca de feina: cv, canals, entrevista, ... 

Dimarts 12 novembre, 19:00h
Sala TIC - Biblioteca Josep Massagué Inscripcions al whatsapp 671 66 05 13

URI:https://www.ullastrell.cat/actualitat/agenda/aquest-nadal-treballo.html
CLASS:PUBLIC
END:VEVENT
END:VCALENDAR
