BEGIN:VCALENDAR
VERSION:2.0
CALSCALE:GREGORIAN
PRODID:-//Diputació de Barcelona//DibaCMS//EN
BEGIN:VEVENT
UID:6296
DTSTAMP:20260419T164401
DTSTART:20241120T171500
DTEND:20241120T184500
SUMMARY:Boxa per desestressar-se
LOCATION:
METHOD:PUBLISH
X-WR-CALNAME:ullastrell@ullastrell.cat
X-WR-TIMEZONE:Europe/Madrid
DESCRIPTION:No hi haurà taller de boxa però l'espai jove estarà igualment obert per passar la tarda i perquè proposeu noves activitats que us vinguin de gust!

De 12 a 16 anys
De 17.30 a 19.30h

Inscripcions al 662 19 16 83 (Mercè)

URI:https://www.ullastrell.cat/actualitat/agenda/boxa-per-desestressar-se.html
CLASS:PUBLIC
END:VEVENT
END:VCALENDAR
