BEGIN:VCALENDAR
VERSION:2.0
CALSCALE:GREGORIAN
PRODID:-//Diputació de Barcelona//DibaCMS//EN
BEGIN:VEVENT
UID:6298
DTSTAMP:20260419T152212
DTSTART:20241215T183000
DTEND:20241215T200000
SUMMARY:Mostra de teatre
LOCATION:
METHOD:PUBLISH
X-WR-CALNAME:ullastrell@ullastrell.cat
X-WR-TIMEZONE:Europe/Madrid
DESCRIPTION:La Criada de dues mestresses - Grup Tàndem

URI:https://www.ullastrell.cat/actualitat/agenda/6298-mostra-de-teatre.html
CLASS:PUBLIC
END:VEVENT
END:VCALENDAR
