BEGIN:VCALENDAR
VERSION:2.0
CALSCALE:GREGORIAN
PRODID:-//Diputació de Barcelona//DibaCMS//EN
BEGIN:VEVENT
UID:6358
DTSTAMP:20260419T152311
DTSTART:20241217T123000
DTEND:20241217T150000
SUMMARY:Banca Mòbil de Catalunya
LOCATION:C/ Serra, 17 08231 Ullastrell
METHOD:PUBLISH
X-WR-CALNAME:ullastrell@ullastrell.cat
X-WR-TIMEZONE:Europe/Madrid
DESCRIPTION:Caixa Bank

Hora: De 12.30h a 15h
Lloc: Davant l'Ajuntament

URI:https://www.ullastrell.cat/actualitat/agenda/6358-banca-mobil-de-catalunya.html
CLASS:PUBLIC
END:VEVENT
END:VCALENDAR
