BEGIN:VCALENDAR
VERSION:2.0
CALSCALE:GREGORIAN
PRODID:-//Diputació de Barcelona//DibaCMS//EN
BEGIN:VEVENT
UID:6365
DTSTAMP:20260419T163648
DTSTART:20241215T100000
DTEND:20241215T140000
SUMMARY:Mercat d'intercanvi de roba d'hivern
LOCATION:
METHOD:PUBLISH
X-WR-CALNAME:ullastrell@ullastrell.cat
X-WR-TIMEZONE:Europe/Madrid
DESCRIPTION:
📣 Mercat de Roba d'Hivern d'Ullastrell 2024! 📣

🗓️ Data: Diumenge 15 de desembre  
⏰ Horari: de 10 h a 14 h  
📍 Lloc: Edifici d'El Progrés, Carrer Serra

🎟️ Entrada lliure
Tria el que vulguis i emporta’t el que necessitis.

🌍 Passa a l'acció i ajuda a construir un model de consum sostenible.  
♿ Accessible per a tothom
👥 Organitzat per l'Ajuntament d'Ullastrell i el Col·lectiu Llavor's què?, amb el suport de la Diputació de Barcelona i el Consorci per la Gestió de Residus del Vallès Occidental.


URI:https://www.ullastrell.cat/actualitat/agenda/mercat-dintercanvi-de-roba-dhivern.html
CLASS:PUBLIC
END:VEVENT
END:VCALENDAR
