BEGIN:VCALENDAR
VERSION:2.0
CALSCALE:GREGORIAN
PRODID:-//Diputació de Barcelona//DibaCMS//EN
BEGIN:VEVENT
UID:6386
DTSTAMP:20260419T145925
DTSTART:20250109T180000
DTEND:20250109T193000
SUMMARY:Club de lectura amb Rosa Massagué 
LOCATION:
METHOD:PUBLISH
X-WR-CALNAME:ullastrell@ullastrell.cat
X-WR-TIMEZONE:Europe/Madrid
DESCRIPTION:
URI:https://www.ullastrell.cat/actualitat/agenda/6386-club-de-lectura-amb-rosa-massague-.html
CLASS:PUBLIC
END:VEVENT
END:VCALENDAR
