BEGIN:VCALENDAR
VERSION:2.0
CALSCALE:GREGORIAN
PRODID:-//Diputació de Barcelona//DibaCMS//EN
BEGIN:VEVENT
UID:6401
DTSTAMP:20260419T151208
DTSTART:20250122T170000
DTEND:20250122T180000
SUMMARY:Conte va conte ve: Afectivament responsables!
LOCATION:C/ Josep Fornell, s/n 08231 Ullastrell
METHOD:PUBLISH
X-WR-CALNAME:ullastrell@ullastrell.cat
X-WR-TIMEZONE:Europe/Madrid
DESCRIPTION:Veniu a descobrir aquest espectacle familiar en què presentarem tres històries que parlen, de manera molt planera i adreçada als infants, de responsabilitat afectiva, de sentiments i de tot allò que podem fer per al nostre benestar emocional i el dels que ens envolten.

URI:https://www.ullastrell.cat/actualitat/agenda/conte-va-conte-ve-afectivament-responsables.html
CLASS:PUBLIC
END:VEVENT
END:VCALENDAR
