BEGIN:VCALENDAR
VERSION:2.0
CALSCALE:GREGORIAN
PRODID:-//Diputació de Barcelona//DibaCMS//EN
BEGIN:VEVENT
UID:6422
DTSTAMP:20260419T150614
DTSTART:20250122T173000
DTEND:20250122T200000
SUMMARY:Espai Jove: Tarda de videojocs - Torneig de FIFA
LOCATION:Plaça de les escoles, 1 08231 Ullastrell
METHOD:PUBLISH
X-WR-CALNAME:ullastrell@ullastrell.cat
X-WR-TIMEZONE:Europe/Madrid
DESCRIPTION:Torneig de FIFA

Cal inscripció prèvia al 662 19 16 83 (Mercè)

URI:https://www.ullastrell.cat/actualitat/agenda/espai-jove-tarda-de-videojocs-torneig-de-fifa.html
CLASS:PUBLIC
END:VEVENT
END:VCALENDAR
