BEGIN:VCALENDAR
VERSION:2.0
CALSCALE:GREGORIAN
PRODID:-//Diputació de Barcelona//DibaCMS//EN
BEGIN:VEVENT
UID:6430
DTSTAMP:20260419T205659
DTSTART:20250126T100000
DTEND:20250126T160000
SUMMARY:13ª FIRA DE L'OLI
LOCATION:Pl. Joan Montmany / C. Serra 
METHOD:PUBLISH
X-WR-CALNAME:ullastrell@ullastrell.cat
X-WR-TIMEZONE:Europe/Madrid
DESCRIPTION:- FIRA DE L'OLI amb parades relacionades amb aquest producte on hi trobaràs als productors locals, alimentació, etc, i foodtrucks.

- PORTES OBERTES AL CELLER Visita un dels edificis històrics d'Ullastrell amb un gran passat vitivinícola.

- EXPOSICIÓ sobre el PARC RURAL DE MONTSERRAT. Coneix una mica més el Parc Rural de Montserrat amb l'exposició que trobaràs a les carpes de la Fira.

- SERVEI DE BAR, BOTIFARRADA I CALÇOTADA a càrrec dels Diables d'Ullastrell.

- ESCUDELLADA a càrrec de la Colla de Geganters d'Ullastrell

URI:https://www.ullastrell.cat/actualitat/agenda/13a-fira-de-loli.html
CLASS:PUBLIC
END:VEVENT
END:VCALENDAR
