BEGIN:VCALENDAR
VERSION:2.0
CALSCALE:GREGORIAN
PRODID:-//Diputació de Barcelona//DibaCMS//EN
BEGIN:VEVENT
UID:6444
DTSTAMP:20260419T153452
DTSTART:20250212T173000
DTEND:20250212T200000
SUMMARY:Espai Jove: CREPS
LOCATION:Plaça de les escoles, 1 08231 Ullastrell
METHOD:PUBLISH
X-WR-CALNAME:ullastrell@ullastrell.cat
X-WR-TIMEZONE:Europe/Madrid
DESCRIPTION:Tarda culinària per aprendre a preparar un bon berenar!

Avisa'ns si has de venir per comprar ingredients per tohotm.

URI:https://www.ullastrell.cat/actualitat/agenda/espai-jove-creps.html
CLASS:PUBLIC
END:VEVENT
END:VCALENDAR
