BEGIN:VCALENDAR
VERSION:2.0
CALSCALE:GREGORIAN
PRODID:-//Diputació de Barcelona//DibaCMS//EN
BEGIN:VEVENT
UID:6496
DTSTAMP:20260419T153623
DTSTART:20250425T173000
DTEND:20250425T183000
SUMMARY:Dia d'escacs 
LOCATION:C/ Josep Fornell, s/n 08231 Ullastrell
METHOD:PUBLISH
X-WR-CALNAME:ullastrell@ullastrell.cat
X-WR-TIMEZONE:Europe/Madrid
DESCRIPTION:Vine a gaudir i jugar a escacs amb gent de totes les edats. 

URI:https://www.ullastrell.cat/actualitat/agenda/6496-dia-descacs-.html
CLASS:PUBLIC
END:VEVENT
END:VCALENDAR
