BEGIN:VCALENDAR
VERSION:2.0
CALSCALE:GREGORIAN
PRODID:-//Diputació de Barcelona//DibaCMS//EN
BEGIN:VEVENT
UID:6521
DTSTAMP:20260421T110815
DTSTART:20250422T190000
DTEND:20250422T200000
SUMMARY:Club de lectura amb Feliu Formosa
LOCATION:C/ Josep Fornell, s/n 08231 Ullastrell
METHOD:PUBLISH
X-WR-CALNAME:ullastrell@ullastrell.cat
X-WR-TIMEZONE:Europe/Madrid
DESCRIPTION:Dins de la IV Setmana de la Gent Gran.

Organitza: El Club de lectura.
Al final, petit refrigeri.

URI:https://www.ullastrell.cat/actualitat/agenda/club-de-lectura-amb-feliu-formosa.html
CLASS:PUBLIC
END:VEVENT
END:VCALENDAR
