BEGIN:VCALENDAR
VERSION:2.0
CALSCALE:GREGORIAN
PRODID:-//Diputació de Barcelona//DibaCMS//EN
BEGIN:VEVENT
UID:6536
DTSTAMP:20260419T154358
DTSTART:20250509T151500
DTEND:20250509T161500
SUMMARY:Banca Mòbil de Catalunya 
LOCATION:C/ Serra, 17 08231 Ullastrell
METHOD:PUBLISH
X-WR-CALNAME:ullastrell@ullastrell.cat
X-WR-TIMEZONE:Europe/Madrid
DESCRIPTION:Caixa Enginyers

Hora: De 15:15 a 16:15h
Lloc: Davant l'Ajuntament

URI:https://www.ullastrell.cat/actualitat/agenda/6536-banca-mobil-de-catalunya-.html
CLASS:PUBLIC
END:VEVENT
END:VCALENDAR
