BEGIN:VCALENDAR
VERSION:2.0
CALSCALE:GREGORIAN
PRODID:-//Diputació de Barcelona//DibaCMS//EN
BEGIN:VEVENT
UID:6574
DTSTAMP:20260420T232503
DTSTART:20250604T170000
DTEND:20250604T180000
SUMMARY:Conte va conte ve — La nina nova
LOCATION:C/ Josep Fornell, s/n 08231 Ullastrell
METHOD:PUBLISH
X-WR-CALNAME:ullastrell@ullastrell.cat
X-WR-TIMEZONE:Europe/Madrid
DESCRIPTION:La Marina és la nina que tots els nens i les nenes voldrien tenir a casa. La Laia en té una i no se’n separa. Un dia la nina cau i se li esparra el vestit. Ja no és una nina nova, però encara pot jugar! Un conte que ens parla de sostenibilitat i de donar més d’una vida als objectes.

URI:https://www.ullastrell.cat/actualitat/agenda/conte-va-conte-ve--la-nina-nova.html
CLASS:PUBLIC
END:VEVENT
END:VCALENDAR
