BEGIN:VCALENDAR
VERSION:2.0
CALSCALE:GREGORIAN
PRODID:-//Diputació de Barcelona//DibaCMS//EN
BEGIN:VEVENT
UID:6577
DTSTAMP:20260419T173939
DTSTART:20250514T193000
DTEND:20250514T203000
SUMMARY:Reunió de barri: Cal Jep
LOCATION:Bancs del Passatge Sant Jordi 
METHOD:PUBLISH
X-WR-CALNAME:ullastrell@ullastrell.cat
X-WR-TIMEZONE:Europe/Madrid
DESCRIPTION:Estan convidats/des totes les veïnes i veïns dels carrers: Nord, Agustí Puig i Puig, Sant Jordi, Sant Jaume, Psstge. Sant Jordi i Sant Jaume i Camí de la Font.

URI:https://www.ullastrell.cat/actualitat/agenda/6577-reunio-de-barri-cal-jep.html
CLASS:PUBLIC
END:VEVENT
END:VCALENDAR
