BEGIN:VCALENDAR
VERSION:2.0
CALSCALE:GREGORIAN
PRODID:-//Diputació de Barcelona//DibaCMS//EN
BEGIN:VEVENT
UID:6586
DTSTAMP:20260419T153611
DTSTART:20250528T173000
DTEND:20250528T200000
SUMMARY:Taller de pizzes
LOCATION:Plaça de les escoles, 1 08231 Ullastrell
METHOD:PUBLISH
X-WR-CALNAME:ullastrell@ullastrell.cat
X-WR-TIMEZONE:Europe/Madrid
DESCRIPTION:Torna el taller de pizzes! Vine a sopar-berenar amb els teus amics a l'Espai Jove.

Apunta’t al 662 19 16 83 - LAIA

URI:https://www.ullastrell.cat/actualitat/agenda/taller-de-pizzes.html
CLASS:PUBLIC
END:VEVENT
END:VCALENDAR
