BEGIN:VCALENDAR
VERSION:2.0
CALSCALE:GREGORIAN
PRODID:-//Diputació de Barcelona//DibaCMS//EN
BEGIN:VEVENT
UID:6613
DTSTAMP:20260419T170304
DTSTART:20250623T190000
DTEND:20250623T235900
SUMMARY:Revetlla de Sant Joan 
LOCATION:Diferents espais 
METHOD:PUBLISH
X-WR-CALNAME:ullastrell@ullastrell.cat
X-WR-TIMEZONE:Europe/Madrid
DESCRIPTION:Dona la benvinguda a l'estiu amb l'habitual arribada de la Flama del Canigó per encendre la foguera de Sant Joan!

URI:https://www.ullastrell.cat/actualitat/agenda/revetlla-de-sant-joan-.html
CLASS:PUBLIC
END:VEVENT
END:VCALENDAR
