BEGIN:VCALENDAR
VERSION:2.0
CALSCALE:GREGORIAN
PRODID:-//Diputació de Barcelona//DibaCMS//EN
BEGIN:VEVENT
UID:6664
DTSTAMP:20260420T212637
DTSTART:20250815T183000
DTEND:20250815T193000
SUMMARY:PUBILLA DE FERRO
LOCATION:Plaça Joan Montmany 
METHOD:PUBLISH
X-WR-CALNAME:ullastrell@ullastrell.cat
X-WR-TIMEZONE:Europe/Madrid
DESCRIPTION:La pubilla de ferro consisteix en una sèrie de reptes rurals, preguntes de cultura del poble i proves físiques.
Guanyarà qui obtingui la millor puntuació. T’atreveixes?

→ 5O punts / guanyador-a

Organitza Oju Malparlats

URI:https://www.ullastrell.cat/actualitat/agenda/6664-pubilla-de-ferro.html
CLASS:PUBLIC
END:VEVENT
END:VCALENDAR
