BEGIN:VCALENDAR
VERSION:2.0
CALSCALE:GREGORIAN
PRODID:-//Diputació de Barcelona//DibaCMS//EN
BEGIN:VEVENT
UID:6667
DTSTAMP:20260421T004226
DTSTART:20250815T220000
DTEND:20250815T224500
SUMMARY:MOGUDA GEGANTERA
LOCATION:Durant el recorregut del correbacus  
METHOD:PUBLISH
X-WR-CALNAME:ullastrell@ullastrell.cat
X-WR-TIMEZONE:Europe/Madrid
DESCRIPTION:Viu els mítics Gegants d’Ullastrell, el Bacus i la Serralavella, fent ballaruca com mai els has vist.

URI:https://www.ullastrell.cat/actualitat/agenda/6667-moguda-gegantera.html
CLASS:PUBLIC
END:VEVENT
END:VCALENDAR
