BEGIN:VCALENDAR
VERSION:2.0
CALSCALE:GREGORIAN
PRODID:-//Diputació de Barcelona//DibaCMS//EN
BEGIN:VEVENT
UID:6670
DTSTAMP:20260419T160219
DTSTART:20250816T000000
DTEND:20250816T020000
SUMMARY:BANY NOCTURN AMB SESSIÓ MUSICAL
LOCATION:C/ Josep Fornell, s/n 08231 Ullastrell
METHOD:PUBLISH
X-WR-CALNAME:ullastrell@ullastrell.cat
X-WR-TIMEZONE:Europe/Madrid
DESCRIPTION:Arribada la mitjanit, refresca’t per fer passar la calor d’agost, amb la sessió musical i barra proposada pel Bar de la Piscina.

URI:https://www.ullastrell.cat/actualitat/agenda/bany-nocturn-amb-sessio-musical.html
CLASS:PUBLIC
END:VEVENT
END:VCALENDAR
