BEGIN:VCALENDAR
VERSION:2.0
CALSCALE:GREGORIAN
PRODID:-//Diputació de Barcelona//DibaCMS//EN
BEGIN:VEVENT
UID:6674
DTSTAMP:20260420T225243
DTSTART:20250816T141500
DTEND:20250816T150000
SUMMARY:APERITIU POPULAR
LOCATION:C/ Josep Fornell, s/n 08231 Ullastrell
METHOD:PUBLISH
X-WR-CALNAME:ullastrell@ullastrell.cat
X-WR-TIMEZONE:Europe/Madrid
DESCRIPTION:Abans del dinar de germanor, gaudirem d’un aperitiu popular.

Organitza La Colla de la Gent Gran

URI:https://www.ullastrell.cat/actualitat/agenda/6674-aperitiu-popular.html
CLASS:PUBLIC
END:VEVENT
END:VCALENDAR
