BEGIN:VCALENDAR
VERSION:2.0
CALSCALE:GREGORIAN
PRODID:-//Diputació de Barcelona//DibaCMS//EN
BEGIN:VEVENT
UID:6675
DTSTAMP:20260419T174011
DTSTART:20250816T150000
DTEND:20250816T160000
SUMMARY:DINAR DE LA GENT GRAN
LOCATION:C/ Josep Fornell, s/n 08231 Ullastrell
METHOD:PUBLISH
X-WR-CALNAME:ullastrell@ullastrell.cat
X-WR-TIMEZONE:Europe/Madrid
DESCRIPTION:La Gent Gran d’Ullastrell celebra el seu dia amb un dinar de germanor.
Menú: Amanida catalana, Fideuà, Gelats, Cafès i gotes. Pa, vi i aigua.

Reserves fins al 12 d’agost. M. Rodó: 627 220 771 / Nuri Sucarrats: 654 141 078
Durant l’àpat, una prova sorpresa per acumular punts de saviesa a ULLAS i TRELL.
→ 5 punts / resposta encertada i un total de 15 preguntes.

Organitza La Colla de la Gent Gran

URI:https://www.ullastrell.cat/actualitat/agenda/6675-dinar-de-la-gent-gran.html
CLASS:PUBLIC
END:VEVENT
END:VCALENDAR
